BEGIN:VCALENDAR
VERSION:2.0
PRODID:-//A Pedibus//NONSGML kigkonsult.se iCalcreator 2.41.92//
CALSCALE:GREGORIAN
METHOD:PUBLISH
UID:66616237-3361-4464-b031-373730343838
X-WR-CALNAME:iCagenda
X-WR-CALDESC:Event Management Extension for Joomla!
X-WR-RELCALID:3E26604A-50F4-4449-8B3E-E4F4932D05B5
X-WR-TIMEZONE:Europe/Paris
BEGIN:VTIMEZONE
TZID:Europe/Paris
TZUNTIL:20280326T010000Z
BEGIN:STANDARD
TZNAME:CET
DTSTART:20251026T030000
TZOFFSETFROM:+0200
TZOFFSETTO:+0100
RDATE:20261025T030000
RDATE:20271031T030000
END:STANDARD
BEGIN:DAYLIGHT
TZNAME:CEST
DTSTART:20260329T020000
TZOFFSETFROM:+0100
TZOFFSETTO:+0200
RDATE:20270328T020000
END:DAYLIGHT
END:VTIMEZONE
BEGIN:VEVENT
UID:33346262-3264-4737-b739-373563666639
DTSTAMP:20260420T160142Z
CATEGORIES:Rando semaine
CLASS:PUBLIC
DESCRIPTION:
DTSTART:20260521T070000Z
DTEND:20260521T070000Z
GEO:+43.336338;+5.979227
LOCATION:
ORGANIZER:
SEQUENCE:1
SUMMARY:La Loube
TRANSP:OPAQUE
URL:https://apedibus.fr/index.php/accueil/programme-des-randonnees/evenemen
 t-a-venir/2263-thu-21-05-26/2026-05-21-09-00
END:VEVENT
END:VCALENDAR
