BEGIN:VCALENDAR
VERSION:2.0
PRODID:-//A Pedibus//NONSGML kigkonsult.se iCalcreator 2.41.92//
CALSCALE:GREGORIAN
METHOD:PUBLISH
UID:64623866-6539-4662-a664-306434326362
X-WR-CALNAME:iCagenda
X-WR-CALDESC:Event Management Extension for Joomla!
X-WR-RELCALID:3E26604A-50F4-4449-8B3E-E4F4932D05B5
X-WR-TIMEZONE:Europe/Paris
BEGIN:VTIMEZONE
TZID:Europe/Paris
TZUNTIL:20271031T010000Z
BEGIN:STANDARD
TZNAME:CET
DTSTART:20251026T030000
TZOFFSETFROM:+0200
TZOFFSETTO:+0100
RDATE:20261025T030000
END:STANDARD
BEGIN:DAYLIGHT
TZNAME:CEST
DTSTART:20260329T020000
TZOFFSETFROM:+0100
TZOFFSETTO:+0200
RDATE:20270328T020000
END:DAYLIGHT
END:VTIMEZONE
BEGIN:VEVENT
UID:39326266-3735-4134-b664-396263393835
DTSTAMP:20260425T142712Z
CATEGORIES:Marche nordique
CLASS:PUBLIC
DESCRIPTION;ALTREP="CID:<FFFF__=0ABBE548DFE235B58f9e8a93d@coffeebean.com>":
  \nRepas à Gonfaron : 22 €. Préréservez le nombre de repas dans le champs 
 'Panier Repas'\n{loadmoduleid 225}\n{loadmoduleid 238}
DTSTART:20260425T053000Z
DTEND:20260425T053000Z
GEO:+43.316429;+6.286597
LOCATION:N43.31660° E6.28644°
ORGANIZER:
SEQUENCE:1
SUMMARY:Challenge MN Gonfaron (2026)
TRANSP:OPAQUE
URL:https://apedibus.fr/index.php/component/icagenda/2162-gonfaron2026/2026
 -04-25-07-30?layout=vcal
END:VEVENT
END:VCALENDAR
