BEGIN:VCALENDAR
VERSION:2.0
PRODID:-//A Pedibus//NONSGML kigkonsult.se iCalcreator 2.41.92//
CALSCALE:GREGORIAN
METHOD:PUBLISH
UID:62303136-3236-4937-b661-653938666666
X-WR-CALNAME:iCagenda
X-WR-CALDESC:Event Management Extension for Joomla!
X-WR-RELCALID:3E26604A-50F4-4449-8B3E-E4F4932D05B5
X-WR-TIMEZONE:Europe/Paris
BEGIN:VTIMEZONE
TZID:Europe/Paris
TZUNTIL:20271031T010000Z
BEGIN:STANDARD
TZNAME:CET
DTSTART:20251026T030000
TZOFFSETFROM:+0200
TZOFFSETTO:+0100
RDATE:20261025T030000
END:STANDARD
BEGIN:DAYLIGHT
TZNAME:CEST
DTSTART:20260329T020000
TZOFFSETFROM:+0100
TZOFFSETTO:+0200
RDATE:20270328T020000
END:DAYLIGHT
END:VTIMEZONE
BEGIN:VEVENT
UID:36646238-6336-4632-b233-356339363364
DTSTAMP:20260423T142315Z
CATEGORIES:Rando semaine
CLASS:PUBLIC
DESCRIPTION;ALTREP="CID:<FFFF__=0ABBE548DFE235B58f9e8a93d@coffeebean.com>":
 Je vous propose ce jeudi 23 une randonnée pour découvrir les aiguilles de 
 Valbelle sur la commune de Meounes les montrieux. \nRando moyenne de14 kms
  environ et 450m de dénivelé sans difficultés particulières \nRDV parking 
 de la gendarmerie à 08h45 \,départ à 09h00 \n RDV depart de la rando : par
 king de la chartreuse de montrieux 09h30 N 43 263056 E 5 963372\nIl devrai
 t faire beau et chaud\n{loadmoduleid 238}
DTSTART:20260423T070000Z
DTEND:20260423T070000Z
GEO:+43.263058;+5.963372
LOCATION:
ORGANIZER:
SEQUENCE:1
SUMMARY:Les aiguilles de Valbelle
TRANSP:OPAQUE
URL:https://apedibus.fr/index.php/component/icagenda/2261-thu-23-04-26/2026
 -04-23-09-00?layout=vcal
END:VEVENT
END:VCALENDAR
