BEGIN:VCALENDAR
VERSION:2.0
PRODID:-//A Pedibus//NONSGML kigkonsult.se iCalcreator 2.41.92//
CALSCALE:GREGORIAN
METHOD:PUBLISH
UID:65333866-3332-4465-b934-303263326336
X-WR-CALNAME:iCagenda
X-WR-CALDESC:Event Management Extension for Joomla!
X-WR-RELCALID:3E26604A-50F4-4449-8B3E-E4F4932D05B5
X-WR-TIMEZONE:Europe/Paris
BEGIN:VTIMEZONE
TZID:Europe/Paris
TZUNTIL:20271031T010000Z
BEGIN:STANDARD
TZNAME:CET
DTSTART:20251026T030000
TZOFFSETFROM:+0200
TZOFFSETTO:+0100
RDATE:20261025T030000
END:STANDARD
BEGIN:DAYLIGHT
TZNAME:CEST
DTSTART:20260329T020000
TZOFFSETFROM:+0100
TZOFFSETTO:+0200
RDATE:20270328T020000
END:DAYLIGHT
END:VTIMEZONE
BEGIN:VEVENT
UID:32316165-3338-4533-b437-373136333865
DTSTAMP:20260420T133809Z
CATEGORIES:Marche nordique
CLASS:PUBLIC
DESCRIPTION:
DTSTART:20260420T063000Z
DTEND:20260420T063000Z
GEO:00;0
LOCATION:
ORGANIZER:
SEQUENCE:1
SUMMARY:MN Lun 20/04
TRANSP:OPAQUE
URL:https://apedibus.fr/index.php/component/icagenda/2300-Mon-20-04-26/2026
 -04-20-08-30
END:VEVENT
END:VCALENDAR
