BEGIN:VCALENDAR
VERSION:2.0
PRODID:-//A Pedibus//NONSGML kigkonsult.se iCalcreator 2.41.92//
CALSCALE:GREGORIAN
METHOD:PUBLISH
UID:61656234-6439-4033-a166-333531353735
X-WR-CALNAME:iCagenda
X-WR-CALDESC:Event Management Extension for Joomla!
X-WR-RELCALID:3E26604A-50F4-4449-8B3E-E4F4932D05B5
X-WR-TIMEZONE:Europe/Paris
BEGIN:VTIMEZONE
TZID:Europe/Paris
TZUNTIL:20261025T010000Z
BEGIN:STANDARD
TZNAME:CET
DTSTART:20241027T030000
TZOFFSETFROM:+0200
TZOFFSETTO:+0100
RDATE:20251026T030000
END:STANDARD
BEGIN:DAYLIGHT
TZNAME:CEST
DTSTART:20240331T020000
TZOFFSETFROM:+0100
TZOFFSETTO:+0200
RDATE:20250330T020000
RDATE:20260329T020000
END:DAYLIGHT
END:VTIMEZONE
BEGIN:VEVENT
UID:38653338-6539-4139-b362-313063336163
DTSTAMP:20260424T170549Z
CATEGORIES:Marche nordique
CLASS:PUBLIC
DESCRIPTION;ALTREP="CID:<FFFF__=0ABBE548DFE235B58f9e8a93d@coffeebean.com>":
  \n{lloadmoduleid 225}
DTSTART:20250329T063000Z
DTEND:20250329T063000Z
GEO:+43.275074;+6.025015
LOCATION:N43.31660° E6.28644°
ORGANIZER:
SEQUENCE:1
SUMMARY:Challenge MN Néoules 2026
TRANSP:OPAQUE
URL:https://apedibus.fr/index.php/prochaines-randos/2022-neoules2026/2025-0
 3-29-07-30?layout=vcal
END:VEVENT
END:VCALENDAR
